BEGIN:VCALENDAR
VERSION:2.0
PRODID:-//The Amish Door - ECPv6.15.20//NONSGML v1.0//EN
CALSCALE:GREGORIAN
METHOD:PUBLISH
X-WR-CALNAME:The Amish Door
X-ORIGINAL-URL:https://amishdoor.com
X-WR-CALDESC:Events for The Amish Door
REFRESH-INTERVAL;VALUE=DURATION:PT1H
X-Robots-Tag:noindex
X-PUBLISHED-TTL:PT1H
BEGIN:VTIMEZONE
TZID:UTC
BEGIN:STANDARD
TZOFFSETFROM:+0000
TZOFFSETTO:+0000
TZNAME:UTC
DTSTART:20240101T000000
END:STANDARD
END:VTIMEZONE
BEGIN:VEVENT
DTSTART;TZID=UTC:20250614T110000
DTEND;TZID=UTC:20250614T140000
DTSTAMP:20260422T205635
CREATED:20241227T160901Z
LAST-MODIFIED:20250520T174253Z
UID:2983-1749898800-1749909600@amishdoor.com
SUMMARY:Volkswagens in the Village
DESCRIPTION:Volkswagen Car Show and Cruise-in at the Amish Door Village. \nRegistration 10:00 AM – 11:00 AM Awards at 2:00 PM. \nTrophies awarded for Best in Class and Best in Show. \nThis event is open to all\, free to spectators\, and free registration for exhibitors.
URL:https://amishdoor.com/eventcalendar/volkswagens-in-the-village-2025/
LOCATION:Amish Door Village\, 1210 Winesburg St.\, Wilmot\, OH\, 44689\, United States
CATEGORIES:AmishDoorVillage
ATTACH;FMTTYPE=image/jpeg:https://amishdoor.com/wp-content/uploads/2025/03/VW-in-the-Village-2025-Cover-Image.jpg
END:VEVENT
BEGIN:VEVENT
DTSTART;TZID=UTC:20250614T110000
DTEND;TZID=UTC:20250614T160000
DTSTAMP:20260422T205635
CREATED:20241227T162759Z
LAST-MODIFIED:20250408T155249Z
UID:2985-1749898800-1749916800@amishdoor.com
SUMMARY:Outdoor Market
DESCRIPTION:Make the Amish Door Outdoor Marketplace a stopping point on your Saturday in Amish Country. \nStroll along the Amish Countryside and visit vendors showcasing Handcrafted Goods & Local Flavors featuring everything from Home Decor to Artisan Breads\, Jewelry to Hand Made Candles and so much more! \nThe lineup of vendors will change each month so each Outdoor Marketplace will be new and different!
URL:https://amishdoor.com/eventcalendar/outdoor-market-june-2025/
LOCATION:Amish Door Village\, 1210 Winesburg St.\, Wilmot\, OH\, 44689\, United States
ATTACH;FMTTYPE=image/jpeg:https://amishdoor.com/wp-content/uploads/2025/04/Outdoor-Marketplace-Logo-Background.jpg
END:VEVENT
END:VCALENDAR