BEGIN:VCALENDAR
VERSION:2.0
PRODID:-//The Amish Door - ECPv6.15.20//NONSGML v1.0//EN
CALSCALE:GREGORIAN
METHOD:PUBLISH
X-WR-CALNAME:The Amish Door
X-ORIGINAL-URL:https://amishdoor.com
X-WR-CALDESC:Events for The Amish Door
REFRESH-INTERVAL;VALUE=DURATION:PT1H
X-Robots-Tag:noindex
X-PUBLISHED-TTL:PT1H
BEGIN:VTIMEZONE
TZID:America/New_York
BEGIN:DAYLIGHT
TZOFFSETFROM:-0500
TZOFFSETTO:-0400
TZNAME:EDT
DTSTART:20220313T070000
END:DAYLIGHT
BEGIN:STANDARD
TZOFFSETFROM:-0400
TZOFFSETTO:-0500
TZNAME:EST
DTSTART:20221106T060000
END:STANDARD
BEGIN:DAYLIGHT
TZOFFSETFROM:-0500
TZOFFSETTO:-0400
TZNAME:EDT
DTSTART:20230312T070000
END:DAYLIGHT
BEGIN:STANDARD
TZOFFSETFROM:-0400
TZOFFSETTO:-0500
TZNAME:EST
DTSTART:20231105T060000
END:STANDARD
BEGIN:DAYLIGHT
TZOFFSETFROM:-0500
TZOFFSETTO:-0400
TZNAME:EDT
DTSTART:20240310T070000
END:DAYLIGHT
BEGIN:STANDARD
TZOFFSETFROM:-0400
TZOFFSETTO:-0500
TZNAME:EST
DTSTART:20241103T060000
END:STANDARD
END:VTIMEZONE
BEGIN:VEVENT
DTSTART;TZID=America/New_York:20230623T123000
DTEND;TZID=America/New_York:20230623T123000
DTSTAMP:20260421T154157
CREATED:20230511T162942Z
LAST-MODIFIED:20230511T190931Z
UID:1685-1687523400-1687523400@amishdoor.com
SUMMARY:THE BOOTH BROTHERS GOSPEL CONCERT
DESCRIPTION:Michael\, Jim\, and Buddy love Southern Gospel music. They believe it touches the soul and offers encouragement and hope. By singing and ministering to audiences through word and song\, these gentlemen are fulfilling God’s call on their lives. Refreshing humor\, inspiring songs\, and encouraging words are embedded in every concert. \nJoin us in the Milana Event Center at The Amish Door Village on Friday\, June 23\, 2023 at 12:30pm for lunch and a concert! \nTicket price includes the concert\, a prepared dinner featuring our Broasted Chicken\, tax and tip. \nTickets for groups of 10 or more are $52 each. Please contact group sales at (330) 359-5464 x420 for Group Tickets. \nDoors open at 12:00pm\, lunch will be served at 12:30pm\, and the concert will start at 1:30pm. \nReserved seating only.\nTickets are non-refundable. All sales are final. \n 
URL:https://amishdoor.com/eventcalendar/the-booth-brothers-gospel-concert/
LOCATION:Milana Event Center\, 1210 Winesburg St. Wilmot\, Ohio\, Wilmot\, OH\, 44689\, United States
CATEGORIES:MilanaLiveEvent
ATTACH;FMTTYPE=image/jpeg:https://amishdoor.com/wp-content/uploads/2023/05/booth-brothers-e1683825063605.jpg
END:VEVENT
END:VCALENDAR