BEGIN:VCALENDAR
VERSION:2.0
PRODID:-//The Amish Door - ECPv6.15.20//NONSGML v1.0//EN
CALSCALE:GREGORIAN
METHOD:PUBLISH
X-ORIGINAL-URL:https://amishdoor.com
X-WR-CALDESC:Events for The Amish Door
REFRESH-INTERVAL;VALUE=DURATION:PT1H
X-Robots-Tag:noindex
X-PUBLISHED-TTL:PT1H
BEGIN:VTIMEZONE
TZID:UTC
BEGIN:STANDARD
TZOFFSETFROM:+0000
TZOFFSETTO:+0000
TZNAME:UTC
DTSTART:20220101T000000
END:STANDARD
END:VTIMEZONE
BEGIN:VEVENT
DTSTART;TZID=UTC:20230914T110000
DTEND;TZID=UTC:20230914T110000
DTSTAMP:20260421T111136
CREATED:20230511T205620Z
LAST-MODIFIED:20230730T150702Z
UID:1739-1694689200-1694689200@amishdoor.com
SUMMARY:JERSEY SEASONS -A FRANKIE VALLI AND THE 4 SEASONS TRIBUTE
DESCRIPTION:The Jersey Seasons not only appear to look like the original group from the 60s but also their vocal sound of a young Frankie Valli is reminiscent of their 1962 appearance on the Ed Sullivan show. \nThe look\, music\, and harmonies of the original Four Seasons are all intact and this group will perform the hits that audiences love\, like Sherry\, Walk Like a Man\, Dawn\, Rag Doll\, Big Girls Don’t Cry and Can’t Take My Eyes Off Of You and they are all done with ease and the nostalgic flair of those years gone by. All of the instrumentation and vocal harmonies are performed LIVE! \nConcert Ticket Price Starting at $55 Includes a Prepared Plate Meal at the Amish Door Banquet Center.  \nDoors Open to Begin Seating at 11:00am\, Lunch is Served at 11:30am and the Concert begins at 12:30pm. \nReserved Seating Only. \nTickets are Non-Refundable.  All Sales are Final.
URL:https://amishdoor.com/eventcalendar/jersey-seasons-a-frankie-valli-and-the-4-seasons-tribute/
LOCATION:Milana Event Center\, 1210 Winesburg St. Wilmot\, Ohio\, Wilmot\, OH\, 44689\, United States
CATEGORIES:MilanaLiveEvent
ATTACH;FMTTYPE=image/jpeg:https://amishdoor.com/wp-content/uploads/2023/05/JerseySeason-FrankieValliTributeBand.jpg
END:VEVENT
BEGIN:VEVENT
DTSTART;TZID=UTC:20230928T180000
DTEND;TZID=UTC:20230928T220000
DTSTAMP:20260421T111136
CREATED:20230730T135406Z
LAST-MODIFIED:20230803T142552Z
UID:2353-1695924000-1695938400@amishdoor.com
SUMMARY:THE ULTIMATE TRIBUTE FEATURING MIKE ALBERT AND THE BIG 'E' BAND
DESCRIPTION:Mike Albert presents “Memories of Elvis”. Mike’s style and charisma and his ability to get the audience involved in the show have proved to be quite the crowd pleaser. Come on out and see for yourself! \nTickets start at $55. Concert Ticket Price Includes a Prepared Plate Meal in the Milana Ballroom at Amish Door Village. \nDoors Open to Begin Seating at 6:00 pm\, Dinner is Served at 6:30 pm and the Concert begins at 7:30 pm. \nReserved Seating Only. \nTickets are Non-Refundable. All Sales are Final. \n 
URL:https://amishdoor.com/eventcalendar/the-ultimate-tribute-featuring-mike-albert-and-the-big-e-band/
LOCATION:Milana Event Center\, 1210 Winesburg St. Wilmot\, Ohio\, Wilmot\, OH\, 44689\, United States
CATEGORIES:MilanaLiveEvent
ATTACH;FMTTYPE=image/jpeg:https://amishdoor.com/wp-content/uploads/2023/07/MemoriesOfElvis-Mike-Albert.jpg
END:VEVENT
END:VCALENDAR