BEGIN:VCALENDAR
VERSION:2.0
PRODID:-//The Amish Door - ECPv6.15.20//NONSGML v1.0//EN
CALSCALE:GREGORIAN
METHOD:PUBLISH
X-ORIGINAL-URL:https://amishdoor.com
X-WR-CALDESC:Events for The Amish Door
REFRESH-INTERVAL;VALUE=DURATION:PT1H
X-Robots-Tag:noindex
X-PUBLISHED-TTL:PT1H
BEGIN:VTIMEZONE
TZID:UTC
BEGIN:STANDARD
TZOFFSETFROM:+0000
TZOFFSETTO:+0000
TZNAME:UTC
DTSTART:20220101T000000
END:STANDARD
END:VTIMEZONE
BEGIN:VEVENT
DTSTART;TZID=UTC:20231028T063000
DTEND;TZID=UTC:20231028T220000
DTSTAMP:20260421T111327
CREATED:20230730T150402Z
LAST-MODIFIED:20230803T142654Z
UID:2361-1698474600-1698530400@amishdoor.com
SUMMARY:DEATH OF A GANGSTER MURDER MYSTERY DINNER
DESCRIPTION:Lucky you! You’ve been invited to the Dunn Speakeasy for the wedding of the year! In this “married to the mob” event\, you’ll never know who to trust. With the two families merging together\, someone is bound to lose power\, which means someone else will lose their life! Get on the trolley and solve this case with your fellow detectives. \nDress like the cat’s meow for this mafia wedding! Flapper dresses\, zoot suits\, feather boas\, and headbands\, pinstriped suits\, and fedoras are all appropriate. Traditional wedding attire is nifty too! \nTicket Price is $55 Including a Prepared Plate Meal in the Milana Ballroom. \nDoors Open to Begin Seating at 6:00 pm\, Dinner is Served at 6:30 pm \nReserved Seating Only. \nTickets are Non-Refundable. All Sales are Final.
URL:https://amishdoor.com/eventcalendar/death-of-a-gangster-murder-mystery-dinner/
LOCATION:Milana Event Center\, 1210 Winesburg St. Wilmot\, Ohio\, Wilmot\, OH\, 44689\, United States
CATEGORIES:MilanaLiveEvent
ATTACH;FMTTYPE=image/jpeg:https://amishdoor.com/wp-content/uploads/2023/07/death-of-a-gangster-murder-mystery.jpg
END:VEVENT
END:VCALENDAR