BEGIN:VCALENDAR
VERSION:2.0
PRODID:-//The Amish Door - ECPv6.15.20//NONSGML v1.0//EN
CALSCALE:GREGORIAN
METHOD:PUBLISH
X-WR-CALNAME:The Amish Door
X-ORIGINAL-URL:https://amishdoor.com
X-WR-CALDESC:Events for The Amish Door
REFRESH-INTERVAL;VALUE=DURATION:PT1H
X-Robots-Tag:noindex
X-PUBLISHED-TTL:PT1H
BEGIN:VTIMEZONE
TZID:UTC
BEGIN:STANDARD
TZOFFSETFROM:+0000
TZOFFSETTO:+0000
TZNAME:UTC
DTSTART:20240101T000000
END:STANDARD
END:VTIMEZONE
BEGIN:VEVENT
DTSTART;TZID=UTC:20250705T110000
DTEND;TZID=UTC:20250705T150000
DTSTAMP:20260422T174629
CREATED:20241227T163624Z
LAST-MODIFIED:20250515T210128Z
UID:2991-1751713200-1751727600@amishdoor.com
SUMMARY:Amish Country Jeep Meet July 2025
DESCRIPTION:All are welcome to attend the  3rd Annual Amish Country Jeep Meet at the Amish Door Village\nBring your Jeep to show or stop by the Amish Door to check out the Jeeps and vote for your favorite! \n  \nRegistration from 9am-12pm\nJeep Meet open to the public 11am-3pm\nAwards at 3pm  \nInterested in Showing Your Jeep in the Jeep Meet? \nClick Here to Register. \n 
URL:https://amishdoor.com/eventcalendar/amish-country-jeep-meet-july-2025/
LOCATION:Amish Door Village\, 1210 Winesburg St.\, Wilmot\, OH\, 44689\, United States
CATEGORIES:AmishDoorVillage
ATTACH;FMTTYPE=image/jpeg:https://amishdoor.com/wp-content/uploads/2025/03/Jeep-Meet-Square.jpg
END:VEVENT
BEGIN:VEVENT
DTSTART;TZID=UTC:20250712T110000
DTEND;TZID=UTC:20250712T160000
DTSTAMP:20260422T174629
CREATED:20241227T164101Z
LAST-MODIFIED:20250408T155129Z
UID:2995-1752318000-1752336000@amishdoor.com
SUMMARY:Outdoor Market
DESCRIPTION:Make the Amish Door Outdoor Marketplace a stopping point on your Saturday in Amish Country. \nStroll along the Amish Countryside and visit vendors showcasing Handcrafted Goods & Local Flavors featuring everything from Home Decor to Artisan Breads\, Jewelry to Hand Made Candles and so much more! \nThe lineup of vendors will change each month so each Outdoor Marketplace will be new and different!
URL:https://amishdoor.com/eventcalendar/outdoor-market-july-2025/
LOCATION:Amish Door Village\, 1210 Winesburg St.\, Wilmot\, OH\, 44689\, United States
CATEGORIES:AmishDoorVillage
ATTACH;FMTTYPE=image/jpeg:https://amishdoor.com/wp-content/uploads/2025/04/Outdoor-Marketplace-Logo-Background.jpg
END:VEVENT
BEGIN:VEVENT
DTSTART;TZID=UTC:20250717T113000
DTEND;TZID=UTC:20250717T113000
DTSTAMP:20260422T174629
CREATED:20241227T164349Z
LAST-MODIFIED:20250108T182311Z
UID:2997-1752751800-1752751800@amishdoor.com
SUMMARY:Memories of Elvis starring Mike Albert Matinee
DESCRIPTION:Know worldwide for his respectful portrayal of Elvis\, Mike’s style and charisma and his his ability to get the audience involved in the Memories of Elvis starring Mike Albert show have proved to be a crowd pleaser. \nDoors open at 11am. Lunch served at 11:30am. \nShow begins at 12:30pm. \nAll Sales are Final. Tickets are Non-Refundable. \nGroup rates are available for groups of 10 or more
URL:https://amishdoor.com/eventcalendar/mike-albert-2025am/
LOCATION:Milana Event Center\, 1210 Winesburg St. Wilmot\, Ohio\, Wilmot\, OH\, 44689\, United States
CATEGORIES:MilanaLiveEvent
ATTACH;FMTTYPE=image/jpeg:https://amishdoor.com/wp-content/uploads/2024/12/Mike-Albert-3.jpg
END:VEVENT
BEGIN:VEVENT
DTSTART;TZID=UTC:20250717T183000
DTEND;TZID=UTC:20250717T183000
DTSTAMP:20260422T174629
CREATED:20241227T164815Z
LAST-MODIFIED:20250108T182303Z
UID:2999-1752777000-1752777000@amishdoor.com
SUMMARY:Memories of Elvis Dinner Starring Mike Albert
DESCRIPTION:Know worldwide for his respectul portrayal of Elvis\, Mike’s style and charisma and his his ability to get the audience involved in the Memories of Elvis starring Mike Albert show have proved to be a crowd pleaser. \nDoors open at 6pm. \nDinner served at 6:30pm. \nShow begins at 7:30pm. \nAll Sales are Final. \nTickets are Non-Refundable. \nGroup rates available for groups of 10 or more
URL:https://amishdoor.com/eventcalendar/mike-albert-2025pm/
LOCATION:Milana Event Center\, 1210 Winesburg St. Wilmot\, Ohio\, Wilmot\, OH\, 44689\, United States
CATEGORIES:MilanaLiveEvent
ATTACH;FMTTYPE=image/jpeg:https://amishdoor.com/wp-content/uploads/2024/12/Mike-Albert-3.jpg
END:VEVENT
BEGIN:VEVENT
DTSTART;TZID=UTC:20250731T183000
DTEND;TZID=UTC:20250731T183000
DTSTAMP:20260422T174629
CREATED:20241227T165131Z
LAST-MODIFIED:20250108T182255Z
UID:3001-1753986600-1753986600@amishdoor.com
SUMMARY:Parrots of the Carribbean
DESCRIPTION:The Parrots of the Caribbean are known internationally as the Number 1 Jimmy Buffett Tribute Act in the Country. \nThis high-Energy\, original stage show puts the ROCK in Trop-Rock\, as they feature a “Salute to Jimmy Buffett” They perform outstanding renditions of Buffett & Friends’ biggest songs\, plus their own original\, cajun\, country-rock hits. \nYou’ll be drawn into the full concert experience as the stage comes ALIVE with the wonderfully wild & crazy\, famous & sometimes outrageous antics of the Parrots of the Caribbean! \nDoors open at 6pm. \nDinner served at 6:30pm. \nShow begins at 7:30pm. \nAll Sales are Final. Tickets are Non-Refundable. \nGroup rates available for groups of 10 or more
URL:https://amishdoor.com/eventcalendar/parrots-of-the-carribbean-2025/
LOCATION:Milana Event Center\, 1210 Winesburg St. Wilmot\, Ohio\, Wilmot\, OH\, 44689\, United States
CATEGORIES:MilanaLiveEvent
ATTACH;FMTTYPE=image/jpeg:https://amishdoor.com/wp-content/uploads/2024/12/POTCpressheaderx500.jpg
END:VEVENT
END:VCALENDAR